BEGIN:VCALENDAR
VERSION:2.0
PRODID:-//Big Horn Ranch - ECPv5.13.0//NONSGML v1.0//EN
CALSCALE:GREGORIAN
METHOD:PUBLISH
X-WR-CALNAME:Big Horn Ranch
X-ORIGINAL-URL:https://bighornranch.sk
X-WR-CALDESC:Events for Big Horn Ranch
REFRESH-INTERVAL;VALUE=DURATION:PT1H
X-Robots-Tag:noindex
X-PUBLISHED-TTL:PT1H
BEGIN:VTIMEZONE
TZID:UTC
BEGIN:STANDARD
TZOFFSETFROM:+0000
TZOFFSETTO:+0000
TZNAME:UTC
DTSTART:20260101T000000
END:STANDARD
END:VTIMEZONE
BEGIN:VEVENT
DTSTART;TZID=UTC:20260703T183000
DTEND;TZID=UTC:20260703T183000
DTSTAMP:20260420T141419
CREATED:20260213T090125Z
LAST-MODIFIED:20260213T090125Z
UID:6150-1783103400-1783103400@bighornranch.sk
SUMMARY:Karámkoncert - KOPPÁNY és a Vadkelet hősei koncert
DESCRIPTION:Vendégzenekar: CORNFIELD KIDS
URL:https://bighornranch.sk/event/karamkoncert-koppany-es-a-vadkelet-hosei-koncert/
LOCATION:BIG HORN RANCH\, Nagyszarva\, Szlovákia
END:VEVENT
BEGIN:VEVENT
DTSTART;VALUE=DATE:20260727
DTEND;VALUE=DATE:20260801
DTSTAMP:20260420T141419
CREATED:20260213T085845Z
LAST-MODIFIED:20260213T085845Z
UID:6146-1785110400-1785542399@bighornranch.sk
SUMMARY:Indián Tábor
DESCRIPTION:
URL:https://bighornranch.sk/event/indian-tabor/
LOCATION:BIG HORN RANCH\, Nagyszarva\, Szlovákia
END:VEVENT
BEGIN:VEVENT
DTSTART;VALUE=DATE:20260803
DTEND;VALUE=DATE:20260808
DTSTAMP:20260420T141419
CREATED:20260213T085943Z
LAST-MODIFIED:20260213T085943Z
UID:6148-1785715200-1786147199@bighornranch.sk
SUMMARY:PóniTábor
DESCRIPTION:
URL:https://bighornranch.sk/event/ponitabor/
LOCATION:BIG HORN RANCH\, Nagyszarva\, Szlovákia
END:VEVENT
END:VCALENDAR